BEGIN:VCALENDAR
VERSION:2.0
PRODID:-//Greenhouse Growers Association - GGA - ECPv6.15.15//NONSGML v1.0//EN
CALSCALE:GREGORIAN
METHOD:PUBLISH
X-ORIGINAL-URL:https://ghanagreenhouseassoc.com
X-WR-CALDESC:Events for Greenhouse Growers Association - GGA
REFRESH-INTERVAL;VALUE=DURATION:PT1H
X-Robots-Tag:noindex
X-PUBLISHED-TTL:PT1H
BEGIN:VTIMEZONE
TZID:UTC
BEGIN:STANDARD
TZOFFSETFROM:+0000
TZOFFSETTO:+0000
TZNAME:UTC
DTSTART:20220101T000000
END:STANDARD
END:VTIMEZONE
BEGIN:VEVENT
DTSTART;VALUE=DATE:20230127
DTEND;VALUE=DATE:20230128
DTSTAMP:20260420T014829
CREATED:20221210T041839Z
LAST-MODIFIED:20230120T090051Z
UID:19720-1674777600-1674863999@ghanagreenhouseassoc.com
SUMMARY:Meet & Greet with Association Members & Executives
DESCRIPTION:Vivamus efficitur libero non purus auctor tristique eu sed ex. Integer iaculis fringilla ex\, id eleifend odio ultrices vel. Etiam posuere\, ligula et vehicula rutrum\, mauris velit tristique diam\, in sagittis orci arcu at dolor. Nullam cursus massa nunc\, eu rutrum ipsum mattis at. Proin eleifend bibendum fermentum. \nQuisque congue maximus mauris\, vitae sollicitudin orci malesuada ut. Ut erat erat\, vehicula vel venenatis in\, gravida sed odio. Integer lobortis facilisis augue\, ac faucibus nisi volutpat sit amet. Ut eget dolor id nibh vulputate semper lacinia et sapien. Aenean id mi vitae neque porta ullamcorper. Sed turpis tortor\, fermentum eget convallis eget\, fringilla eget mi. Quisque quis quam ut lorem ornare sagittis. Vestibulum fermentum tincidunt massa. Maecenas eleifend convallis quam. Etiam lobortis nulla leo\, vitae pulvinar felis pretium vel. Phasellus sed nulla non magna fermentum ultrices et sit amet eros. \nIn euismod orci nec lorem rhoncus tempor. Vestibulum et aliquet urna. Fusce ante nisl\, aliquam at massa posuere\, imperdiet accumsan dui. In risus ligula\, posuere eget elementum in\, viverra vitae lacus. Nulla in suscipit diam\, at consectetur nunc. Ut eu bibendum quam. Duis tempus varius faucibus. Praesent quis nibh eros. Nunc quis dignissim neque. Integer sit amet odio vitae est tristique lacinia non sit amet eros. Praesent eu ipsum cursus\, viverra arcu eu\, porttitor turpis. Aliquam viverra tellus vel aliquam ultricies. \nDuis mattis\, ligula non varius lobortis\, lacus lorem dapibus erat\, id dignissim neque lectus quis eros. In eget mauris arcu. Morbi vel bibendum enim\, at ullamcorper felis. Nulla vel libero quis est tincidunt auctor at quis turpis. Aenean eget dapibus nibh\, eu imperdiet tellus. Nunc eu ante sem. Morbi ac fermentum urna\, vel dictum elit. Duis ac sem commodo\, dictum turpis et\, vehicula dolor. Vestibulum semper luctus nisi\, id molestie nisl mollis at.
URL:https://ghanagreenhouseassoc.com/event/meet-greet-with-association-members-executives/
LOCATION:Accra Conference Center\, 35 Nii Lomey Street\, Accra\, Greater Accra\, Ghana
ATTACH;FMTTYPE=image/jpeg:https://ghanagreenhouseassoc.com/wp-content/uploads/2022/12/gga-event-1.jpg
ORGANIZER;CN="Mr. Kwabena Adu-Gyamfi":MAILTO:adu.gyamfi@ghanagreenhouseassoc.com
END:VEVENT
BEGIN:VEVENT
DTSTART;VALUE=DATE:20230126
DTEND;VALUE=DATE:20230127
DTSTAMP:20260420T014829
CREATED:20221213T094104Z
LAST-MODIFIED:20230120T090045Z
UID:19739-1674691200-1674777599@ghanagreenhouseassoc.com
SUMMARY:Training Session
DESCRIPTION:Vivamus efficitur libero non purus auctor tristique eu sed ex. Integer iaculis fringilla ex\, id eleifend odio ultrices vel. Etiam posuere\, ligula et vehicula rutrum\, mauris velit tristique diam\, in sagittis orci arcu at dolor. Nullam cursus massa nunc\, eu rutrum ipsum mattis at. Proin eleifend bibendum fermentum. \nQuisque congue maximus mauris\, vitae sollicitudin orci malesuada ut. Ut erat erat\, vehicula vel venenatis in\, gravida sed odio. Integer lobortis facilisis augue\, ac faucibus nisi volutpat sit amet. Ut eget dolor id nibh vulputate semper lacinia et sapien. Aenean id mi vitae neque porta ullamcorper. Sed turpis tortor\, fermentum eget convallis eget\, fringilla eget mi. Quisque quis quam ut lorem ornare sagittis. Vestibulum fermentum tincidunt massa. Maecenas eleifend convallis quam. Etiam lobortis nulla leo\, vitae pulvinar felis pretium vel. Phasellus sed nulla non magna fermentum ultrices et sit amet eros. \nIn euismod orci nec lorem rhoncus tempor. Vestibulum et aliquet urna. Fusce ante nisl\, aliquam at massa posuere\, imperdiet accumsan dui. In risus ligula\, posuere eget elementum in\, viverra vitae lacus. Nulla in suscipit diam\, at consectetur nunc. Ut eu bibendum quam. Duis tempus varius faucibus. Praesent quis nibh eros. Nunc quis dignissim neque. Integer sit amet odio vitae est tristique lacinia non sit amet eros. Praesent eu ipsum cursus\, viverra arcu eu\, porttitor turpis. Aliquam viverra tellus vel aliquam ultricies. \nDuis mattis\, ligula non varius lobortis\, lacus lorem dapibus erat\, id dignissim neque lectus quis eros. In eget mauris arcu. Morbi vel bibendum enim\, at ullamcorper felis. Nulla vel libero quis est tincidunt auctor at quis turpis. Aenean eget dapibus nibh\, eu imperdiet tellus. Nunc eu ante sem. Morbi ac fermentum urna\, vel dictum elit. Duis ac sem commodo\, dictum turpis et\, vehicula dolor. Vestibulum semper luctus nisi\, id molestie nisl mollis at.
URL:https://ghanagreenhouseassoc.com/event/training-session/
LOCATION:GGA Head Office\, Mikass Lane\, Accra\, Greater Accra\, Ghana
ATTACH;FMTTYPE=image/jpeg:https://ghanagreenhouseassoc.com/wp-content/uploads/2022/12/gga-event-2.jpg
ORGANIZER;CN="Mrs. Esther Emefa":MAILTO:emefa@ghanagreenhouseassoc.com
END:VEVENT
BEGIN:VEVENT
DTSTART;TZID=UTC:20230125T080000
DTEND;TZID=UTC:20230125T170000
DTSTAMP:20260420T014829
CREATED:20221213T101849Z
LAST-MODIFIED:20230120T090040Z
UID:19747-1674633600-1674666000@ghanagreenhouseassoc.com
SUMMARY:Knowledge Sharing on the results of the Tomato Trial
DESCRIPTION:Vivamus efficitur libero non purus auctor tristique eu sed ex. Integer iaculis fringilla ex\, id eleifend odio ultrices vel. Etiam posuere\, ligula et vehicula rutrum\, mauris velit tristique diam\, in sagittis orci arcu at dolor. Nullam cursus massa nunc\, eu rutrum ipsum mattis at. Proin eleifend bibendum fermentum. \nQuisque congue maximus mauris\, vitae sollicitudin orci malesuada ut. Ut erat erat\, vehicula vel venenatis in\, gravida sed odio. Integer lobortis facilisis augue\, ac faucibus nisi volutpat sit amet. Ut eget dolor id nibh vulputate semper lacinia et sapien. Aenean id mi vitae neque porta ullamcorper. Sed turpis tortor\, fermentum eget convallis eget\, fringilla eget mi. Quisque quis quam ut lorem ornare sagittis. Vestibulum fermentum tincidunt massa. Maecenas eleifend convallis quam. Etiam lobortis nulla leo\, vitae pulvinar felis pretium vel. Phasellus sed nulla non magna fermentum ultrices et sit amet eros. \nIn euismod orci nec lorem rhoncus tempor. Vestibulum et aliquet urna. Fusce ante nisl\, aliquam at massa posuere\, imperdiet accumsan dui. In risus ligula\, posuere eget elementum in\, viverra vitae lacus. Nulla in suscipit diam\, at consectetur nunc. Ut eu bibendum quam. Duis tempus varius faucibus. Praesent quis nibh eros. Nunc quis dignissim neque. Integer sit amet odio vitae est tristique lacinia non sit amet eros. Praesent eu ipsum cursus\, viverra arcu eu\, porttitor turpis. Aliquam viverra tellus vel aliquam ultricies. \nDuis mattis\, ligula non varius lobortis\, lacus lorem dapibus erat\, id dignissim neque lectus quis eros. In eget mauris arcu. Morbi vel bibendum enim\, at ullamcorper felis. Nulla vel libero quis est tincidunt auctor at quis turpis. Aenean eget dapibus nibh\, eu imperdiet tellus. Nunc eu ante sem. Morbi ac fermentum urna\, vel dictum elit. Duis ac sem commodo\, dictum turpis et\, vehicula dolor. Vestibulum semper luctus nisi\, id molestie nisl mollis at.
URL:https://ghanagreenhouseassoc.com/event/knowledge-sharing-on-the-results-of-the-tomato-trial/
LOCATION:GGA Head Office\, Mikass Lane\, Accra\, Greater Accra\, Ghana
ATTACH;FMTTYPE=image/jpeg:https://ghanagreenhouseassoc.com/wp-content/uploads/2022/12/gga-event-3.jpg
ORGANIZER;CN="Greenhouse Growers Association":MAILTO:info@ghanagreenhouseassoc.com
END:VEVENT
BEGIN:VEVENT
DTSTART;TZID=UTC:20230124T080000
DTEND;TZID=UTC:20230124T170000
DTSTAMP:20260420T014829
CREATED:20221213T102211Z
LAST-MODIFIED:20230120T090033Z
UID:19750-1674547200-1674579600@ghanagreenhouseassoc.com
SUMMARY:Information update with the Secretariat
DESCRIPTION:Vivamus efficitur libero non purus auctor tristique eu sed ex. Integer iaculis fringilla ex\, id eleifend odio ultrices vel. Etiam posuere\, ligula et vehicula rutrum\, mauris velit tristique diam\, in sagittis orci arcu at dolor. Nullam cursus massa nunc\, eu rutrum ipsum mattis at. Proin eleifend bibendum fermentum. \nQuisque congue maximus mauris\, vitae sollicitudin orci malesuada ut. Ut erat erat\, vehicula vel venenatis in\, gravida sed odio. Integer lobortis facilisis augue\, ac faucibus nisi volutpat sit amet. Ut eget dolor id nibh vulputate semper lacinia et sapien. Aenean id mi vitae neque porta ullamcorper. Sed turpis tortor\, fermentum eget convallis eget\, fringilla eget mi. Quisque quis quam ut lorem ornare sagittis. Vestibulum fermentum tincidunt massa. Maecenas eleifend convallis quam. Etiam lobortis nulla leo\, vitae pulvinar felis pretium vel. Phasellus sed nulla non magna fermentum ultrices et sit amet eros. \nIn euismod orci nec lorem rhoncus tempor. Vestibulum et aliquet urna. Fusce ante nisl\, aliquam at massa posuere\, imperdiet accumsan dui. In risus ligula\, posuere eget elementum in\, viverra vitae lacus. Nulla in suscipit diam\, at consectetur nunc. Ut eu bibendum quam. Duis tempus varius faucibus. Praesent quis nibh eros. Nunc quis dignissim neque. Integer sit amet odio vitae est tristique lacinia non sit amet eros. Praesent eu ipsum cursus\, viverra arcu eu\, porttitor turpis. Aliquam viverra tellus vel aliquam ultricies. \nDuis mattis\, ligula non varius lobortis\, lacus lorem dapibus erat\, id dignissim neque lectus quis eros. In eget mauris arcu. Morbi vel bibendum enim\, at ullamcorper felis. Nulla vel libero quis est tincidunt auctor at quis turpis. Aenean eget dapibus nibh\, eu imperdiet tellus. Nunc eu ante sem. Morbi ac fermentum urna\, vel dictum elit. Duis ac sem commodo\, dictum turpis et\, vehicula dolor. Vestibulum semper luctus nisi\, id molestie nisl mollis at.
URL:https://ghanagreenhouseassoc.com/event/information-update-with-the-secretariat/
LOCATION:Virtual Meeting
ATTACH;FMTTYPE=image/jpeg:https://ghanagreenhouseassoc.com/wp-content/uploads/2022/12/gga-event-4.jpg
ORGANIZER;CN="Greenhouse Growers Association":MAILTO:info@ghanagreenhouseassoc.com
END:VEVENT
END:VCALENDAR